BEGIN:VCALENDAR
VERSION:2.0
PRODID:-//eventon.com NONSGML v1.0//EN
CALSCALE:GREGORIAN
METHOD:PUBLISH
BEGIN:VEVENT
UID:69e6cdd77d543
DTSTAMP:20260421T010735Z
DTSTART:20201201
DTEND:20210101
LOCATION:
SUMMARY:StormWater Rapid Response
DESCRIPTION:STORMWATER RAPID RESPONSE TEAMS Help us do our part to keep our
  beaches clean. After each significant rainfall we will be meet at each of 
 the major storm drains to capture trash and debris before it reaches the wa
 ter. &nbsp;\nhttps://southbayboardriders.org/events/stormwater/
URL:https://southbayboardriders.org/events/stormwater/
END:VEVENT
END:VCALENDAR