BEGIN:VCALENDAR
VERSION:2.0
PRODID:-//eventon.com NONSGML v1.0//EN
CALSCALE:GREGORIAN
METHOD:PUBLISH
BEGIN:VEVENT
UID:69e73feae11f8
DTSTAMP:20260421T091418Z
DTSTART:20220423T140000Z
DTEND:20220424T000000Z
LOCATION:Hermosa Beach Pier
SUMMARY:Surf Series Contest
DESCRIPTION:SURF SERIES / EVENT #6 / HOSTED BY WATERMAN&#8217;S BAR &amp; R
 ESTAURANT &nbsp;\nhttps://southbayboardriders.org/events/surf-series-2022-w
 atermans/
URL:https://southbayboardriders.org/events/surf-series-2022-watermans/
END:VEVENT
END:VCALENDAR