BEGIN:VCALENDAR
VERSION:2.0
PRODID:-//eventon.com NONSGML v1.0//EN
CALSCALE:GREGORIAN
METHOD:PUBLISH
BEGIN:VEVENT
UID:69e9df6779085
DTSTAMP:20260423T085919Z
DTSTART:20250817T010000Z
DTEND:20250817T060000Z
LOCATION:California Surf Club 123 Harbor Dr
SUMMARY:Catalina Classic Kick Off Party 2025
DESCRIPTION:The South Bay Boardriders Club welcomes the Ocean Prone Paddleb
 oard community to a fun filled evening of festivities at the California Sur
 f Club. Food\,  film (showing of &#8220;32 Miles&#8221;) and music by a pop
 ular South Bay Band. Come join us! BUY TICKETS!\nhttps://southbayboardrider
 s.org/events/catalina-classic-kick-off-party-2025/
URL:https://southbayboardriders.org/events/catalina-classic-kick-off-party-2025/
END:VEVENT
END:VCALENDAR